BEGIN:VCALENDAR
VERSION:2.0
PRODID:-//Wendlinger Schiere in Freiburg St. Georgen - ECPv6.15.20//NONSGML v1.0//EN
CALSCALE:GREGORIAN
METHOD:PUBLISH
X-WR-CALNAME:Wendlinger Schiere in Freiburg St. Georgen
X-ORIGINAL-URL:https://www.wendlinger-schiere.de
X-WR-CALDESC:Veranstaltungen für Wendlinger Schiere in Freiburg St. Georgen
REFRESH-INTERVAL;VALUE=DURATION:PT1H
X-Robots-Tag:noindex
X-PUBLISHED-TTL:PT1H
BEGIN:VTIMEZONE
TZID:Europe/Berlin
BEGIN:DAYLIGHT
TZOFFSETFROM:+0100
TZOFFSETTO:+0200
TZNAME:CEST
DTSTART:20230326T010000
END:DAYLIGHT
BEGIN:STANDARD
TZOFFSETFROM:+0200
TZOFFSETTO:+0100
TZNAME:CET
DTSTART:20231029T010000
END:STANDARD
BEGIN:DAYLIGHT
TZOFFSETFROM:+0100
TZOFFSETTO:+0200
TZNAME:CEST
DTSTART:20240331T010000
END:DAYLIGHT
BEGIN:STANDARD
TZOFFSETFROM:+0200
TZOFFSETTO:+0100
TZNAME:CET
DTSTART:20241027T010000
END:STANDARD
BEGIN:DAYLIGHT
TZOFFSETFROM:+0100
TZOFFSETTO:+0200
TZNAME:CEST
DTSTART:20250330T010000
END:DAYLIGHT
BEGIN:STANDARD
TZOFFSETFROM:+0200
TZOFFSETTO:+0100
TZNAME:CET
DTSTART:20251026T010000
END:STANDARD
END:VTIMEZONE
BEGIN:VEVENT
DTSTART;TZID=Europe/Berlin:20240806T193000
DTEND;TZID=Europe/Berlin:20240806T220000
DTSTAMP:20260422T133107
CREATED:20240730T120135Z
LAST-MODIFIED:20240730T120135Z
UID:2209-1722972600-1722981600@www.wendlinger-schiere.de
SUMMARY:Livemusik in der Schiere "Blues Side of Town" Country und Western Musik
DESCRIPTION:
URL:https://www.wendlinger-schiere.de/event/livemusik-in-der-schiere-blues-side-of-town-country-und-western-musik/
ATTACH;FMTTYPE=image/jpeg:https://www.wendlinger-schiere.de/wp-content/uploads/1629-scaled.jpg
END:VEVENT
END:VCALENDAR