BEGIN:VCALENDAR
VERSION:2.0
PRODID:-//Wendlinger Schiere in Freiburg St. Georgen - ECPv6.15.20//NONSGML v1.0//EN
CALSCALE:GREGORIAN
METHOD:PUBLISH
X-WR-CALNAME:Wendlinger Schiere in Freiburg St. Georgen
X-ORIGINAL-URL:https://www.wendlinger-schiere.de
X-WR-CALDESC:Veranstaltungen für Wendlinger Schiere in Freiburg St. Georgen
REFRESH-INTERVAL;VALUE=DURATION:PT1H
X-Robots-Tag:noindex
X-PUBLISHED-TTL:PT1H
BEGIN:VTIMEZONE
TZID:Europe/Berlin
BEGIN:DAYLIGHT
TZOFFSETFROM:+0100
TZOFFSETTO:+0200
TZNAME:CEST
DTSTART:20230326T010000
END:DAYLIGHT
BEGIN:STANDARD
TZOFFSETFROM:+0200
TZOFFSETTO:+0100
TZNAME:CET
DTSTART:20231029T010000
END:STANDARD
BEGIN:DAYLIGHT
TZOFFSETFROM:+0100
TZOFFSETTO:+0200
TZNAME:CEST
DTSTART:20240331T010000
END:DAYLIGHT
BEGIN:STANDARD
TZOFFSETFROM:+0200
TZOFFSETTO:+0100
TZNAME:CET
DTSTART:20241027T010000
END:STANDARD
BEGIN:DAYLIGHT
TZOFFSETFROM:+0100
TZOFFSETTO:+0200
TZNAME:CEST
DTSTART:20250330T010000
END:DAYLIGHT
BEGIN:STANDARD
TZOFFSETFROM:+0200
TZOFFSETTO:+0100
TZNAME:CET
DTSTART:20251026T010000
END:STANDARD
END:VTIMEZONE
BEGIN:VEVENT
DTSTART;VALUE=DATE:20240604
DTEND;VALUE=DATE:20240609
DTSTAMP:20260422T164215
CREATED:20240604T070450Z
LAST-MODIFIED:20240604T074248Z
UID:2166-1717459200-1717891199@www.wendlinger-schiere.de
SUMMARY:Diese Woche in de Schiere "Der Schiere Burger"
DESCRIPTION:
URL:https://www.wendlinger-schiere.de/event/diese-woche-in-de-schiere-der-schiere-burger/
ATTACH;FMTTYPE=image/jpeg:https://www.wendlinger-schiere.de/wp-content/uploads/IMG-20211206-WA0002-1.jpg
END:VEVENT
BEGIN:VEVENT
DTSTART;TZID=Europe/Berlin:20240604T193000
DTEND;TZID=Europe/Berlin:20240604T220000
DTSTAMP:20260422T164215
CREATED:20240221T084321Z
LAST-MODIFIED:20240221T084321Z
UID:2060-1717529400-1717538400@www.wendlinger-schiere.de
SUMMARY:Livemusik in de Schiere "Blind Date" Acoustic Cover Musik aus den 60ern bis Heute!
DESCRIPTION:
URL:https://www.wendlinger-schiere.de/event/livemusik-in-de-schiere-blind-date-acoustic-cover-musik-aus-den-60ern-bis-heute/
ATTACH;FMTTYPE=image/jpeg:https://www.wendlinger-schiere.de/wp-content/uploads/Blind-Date-Band_Pressefoto_kleiner-1.jpg
END:VEVENT
BEGIN:VEVENT
DTSTART;VALUE=DATE:20240611
DTEND;VALUE=DATE:20240616
DTSTAMP:20260422T164215
CREATED:20240611T162815Z
LAST-MODIFIED:20240611T162815Z
UID:2180-1718064000-1718495999@www.wendlinger-schiere.de
SUMMARY:Diese Woche in de Schiere "Halbi Guller vum Grill)
DESCRIPTION:
URL:https://www.wendlinger-schiere.de/event/diese-woche-in-de-schiere-halbi-guller-vum-grill/
ATTACH;FMTTYPE=image/jpeg:https://www.wendlinger-schiere.de/wp-content/uploads/DSC09873.jpeg
END:VEVENT
BEGIN:VEVENT
DTSTART;TZID=Europe/Berlin:20240612T193000
DTEND;TZID=Europe/Berlin:20240612T220000
DTSTAMP:20260422T164215
CREATED:20240221T084541Z
LAST-MODIFIED:20240221T084541Z
UID:2062-1718220600-1718229600@www.wendlinger-schiere.de
SUMMARY:Livemusik in de Schiere "Swinging Allstars" Happy Dixieland Jazz
DESCRIPTION:
URL:https://www.wendlinger-schiere.de/event/livemusik-in-de-schiere-swinging-allstars-happy-dixieland-jazz/
ATTACH;FMTTYPE=image/jpeg:https://www.wendlinger-schiere.de/wp-content/uploads/Swining-Allstars-Print-scaled.jpeg
END:VEVENT
BEGIN:VEVENT
DTSTART;VALUE=DATE:20240614
DTEND;VALUE=DATE:20240715
DTSTAMP:20260422T164215
CREATED:20240515T093058Z
LAST-MODIFIED:20240604T075309Z
UID:2159-1718323200-1721001599@www.wendlinger-schiere.de
SUMMARY:"Fussbal EM in der Wendlinger Schiere live"
DESCRIPTION:
URL:https://www.wendlinger-schiere.de/event/fussbal-em-in-der-wendlinger-schiere-live/
ATTACH;FMTTYPE=image/jpeg:https://www.wendlinger-schiere.de/wp-content/uploads/em.jpg
END:VEVENT
BEGIN:VEVENT
DTSTART;VALUE=DATE:20240628
DTEND;VALUE=DATE:20240630
DTSTAMP:20260422T164215
CREATED:20240212T143259Z
LAST-MODIFIED:20240604T070707Z
UID:2047-1719532800-1719705599@www.wendlinger-schiere.de
SUMMARY:"Hoffest"
DESCRIPTION:
URL:https://www.wendlinger-schiere.de/event/hoffest-2/
ATTACH;FMTTYPE=image/jpeg:https://www.wendlinger-schiere.de/wp-content/uploads/Eva-und-Kinder-scaled.jpg
END:VEVENT
BEGIN:VEVENT
DTSTART;TZID=Europe/Berlin:20240628T170000
DTEND;TZID=Europe/Berlin:20240629T170000
DTSTAMP:20260422T164215
CREATED:20240322T101744Z
LAST-MODIFIED:20240322T101744Z
UID:2109-1719594000-1719680400@www.wendlinger-schiere.de
SUMMARY:Hoffest Flyer
DESCRIPTION:
URL:https://www.wendlinger-schiere.de/event/hoffest-flyer/
ATTACH;FMTTYPE=image/jpeg:https://www.wendlinger-schiere.de/wp-content/uploads/Plakat_Hoffest_2024-scaled.jpg
END:VEVENT
END:VCALENDAR