BEGIN:VCALENDAR
VERSION:2.0
PRODID:-//Wendlinger Schiere in Freiburg St. Georgen - ECPv6.15.20//NONSGML v1.0//EN
CALSCALE:GREGORIAN
METHOD:PUBLISH
X-WR-CALNAME:Wendlinger Schiere in Freiburg St. Georgen
X-ORIGINAL-URL:https://www.wendlinger-schiere.de
X-WR-CALDESC:Veranstaltungen für Wendlinger Schiere in Freiburg St. Georgen
REFRESH-INTERVAL;VALUE=DURATION:PT1H
X-Robots-Tag:noindex
X-PUBLISHED-TTL:PT1H
BEGIN:VTIMEZONE
TZID:Europe/Berlin
BEGIN:DAYLIGHT
TZOFFSETFROM:+0100
TZOFFSETTO:+0200
TZNAME:CEST
DTSTART:20230326T010000
END:DAYLIGHT
BEGIN:STANDARD
TZOFFSETFROM:+0200
TZOFFSETTO:+0100
TZNAME:CET
DTSTART:20231029T010000
END:STANDARD
BEGIN:DAYLIGHT
TZOFFSETFROM:+0100
TZOFFSETTO:+0200
TZNAME:CEST
DTSTART:20240331T010000
END:DAYLIGHT
BEGIN:STANDARD
TZOFFSETFROM:+0200
TZOFFSETTO:+0100
TZNAME:CET
DTSTART:20241027T010000
END:STANDARD
BEGIN:DAYLIGHT
TZOFFSETFROM:+0100
TZOFFSETTO:+0200
TZNAME:CEST
DTSTART:20250330T010000
END:DAYLIGHT
BEGIN:STANDARD
TZOFFSETFROM:+0200
TZOFFSETTO:+0100
TZNAME:CET
DTSTART:20251026T010000
END:STANDARD
END:VTIMEZONE
BEGIN:VEVENT
DTSTART;VALUE=DATE:20240430
DTEND;VALUE=DATE:20240505
DTSTAMP:20260422T181054
CREATED:20240430T124548Z
LAST-MODIFIED:20240430T124548Z
UID:2151-1714435200-1714867199@www.wendlinger-schiere.de
SUMMARY:Diese Woche in de Schiere "Wendlinger Ribbli (Spareribs) und Spargel gegrillt mit Beilagen"
DESCRIPTION:
URL:https://www.wendlinger-schiere.de/event/diese-woche-in-de-schiere-wendlinger-ribbli-spareribs-und-spargel-gegrillt-mit-beilagen/
ATTACH;FMTTYPE=image/jpeg:https://www.wendlinger-schiere.de/wp-content/uploads/DSC09873.jpeg
END:VEVENT
BEGIN:VEVENT
DTSTART;TZID=Europe/Berlin:20240507T193000
DTEND;TZID=Europe/Berlin:20240507T220000
DTSTAMP:20260422T181054
CREATED:20240221T084004Z
LAST-MODIFIED:20240221T084004Z
UID:2054-1715110200-1715119200@www.wendlinger-schiere.de
SUMMARY:Livemusik in de  Schiere "Tremendous D." Trash Country Music
DESCRIPTION:
URL:https://www.wendlinger-schiere.de/event/livemusik-in-de-schiere-tremendous-d-trash-country-music/
ATTACH;FMTTYPE=image/jpeg:https://www.wendlinger-schiere.de/wp-content/uploads/T.T-8.jpg
END:VEVENT
BEGIN:VEVENT
DTSTART;TZID=Europe/Berlin:20240515T190000
DTEND;TZID=Europe/Berlin:20240515T220000
DTSTAMP:20260422T181054
CREATED:20240329T102144Z
LAST-MODIFIED:20240329T102155Z
UID:2120-1715799600-1715810400@www.wendlinger-schiere.de
SUMMARY:Grillmenü mit Weinbegleitung
DESCRIPTION:
URL:https://www.wendlinger-schiere.de/event/grillmenue-mit-weinbegleitung-2/
END:VEVENT
BEGIN:VEVENT
DTSTART;VALUE=DATE:20240521
DTEND;VALUE=DATE:20240526
DTSTAMP:20260422T181054
CREATED:20240522T090255Z
LAST-MODIFIED:20240522T090255Z
UID:2162-1716249600-1716681599@www.wendlinger-schiere.de
SUMMARY:Diese Woche in de Schiere "Gegrillter Spargel und Forelle"
DESCRIPTION:
URL:https://www.wendlinger-schiere.de/event/diese-woche-in-de-schiere-gegrillter-spargel-und-forelle/
ATTACH;FMTTYPE=image/jpeg:https://www.wendlinger-schiere.de/wp-content/uploads/DSC09873.jpeg
END:VEVENT
BEGIN:VEVENT
DTSTART;TZID=Europe/Berlin:20240529T193000
DTEND;TZID=Europe/Berlin:20240529T220000
DTSTAMP:20260422T181054
CREATED:20240515T090258Z
LAST-MODIFIED:20240515T090258Z
UID:2154-1717011000-1717020000@www.wendlinger-schiere.de
SUMMARY:Live Musik in de Schiere "Moondogs" Beatles Cover Band
DESCRIPTION:
URL:https://www.wendlinger-schiere.de/event/live-musik-in-de-schiere-moondogs-beatles-cover-band/
ATTACH;FMTTYPE=image/jpeg:https://www.wendlinger-schiere.de/wp-content/uploads/Moondogs170720_05_desktop-1024x582-1.jpg
END:VEVENT
END:VCALENDAR