BEGIN:VCALENDAR
VERSION:2.0
PRODID:-//Wendlinger Schiere in Freiburg St. Georgen - ECPv6.15.20//NONSGML v1.0//EN
CALSCALE:GREGORIAN
METHOD:PUBLISH
X-WR-CALNAME:Wendlinger Schiere in Freiburg St. Georgen
X-ORIGINAL-URL:https://www.wendlinger-schiere.de
X-WR-CALDESC:Veranstaltungen für Wendlinger Schiere in Freiburg St. Georgen
REFRESH-INTERVAL;VALUE=DURATION:PT1H
X-Robots-Tag:noindex
X-PUBLISHED-TTL:PT1H
BEGIN:VTIMEZONE
TZID:Europe/Berlin
BEGIN:DAYLIGHT
TZOFFSETFROM:+0100
TZOFFSETTO:+0200
TZNAME:CEST
DTSTART:20220327T010000
END:DAYLIGHT
BEGIN:STANDARD
TZOFFSETFROM:+0200
TZOFFSETTO:+0100
TZNAME:CET
DTSTART:20221030T010000
END:STANDARD
BEGIN:DAYLIGHT
TZOFFSETFROM:+0100
TZOFFSETTO:+0200
TZNAME:CEST
DTSTART:20230326T010000
END:DAYLIGHT
BEGIN:STANDARD
TZOFFSETFROM:+0200
TZOFFSETTO:+0100
TZNAME:CET
DTSTART:20231029T010000
END:STANDARD
BEGIN:DAYLIGHT
TZOFFSETFROM:+0100
TZOFFSETTO:+0200
TZNAME:CEST
DTSTART:20240331T010000
END:DAYLIGHT
BEGIN:STANDARD
TZOFFSETFROM:+0200
TZOFFSETTO:+0100
TZNAME:CET
DTSTART:20241027T010000
END:STANDARD
END:VTIMEZONE
BEGIN:VEVENT
DTSTART;VALUE=DATE:20231031
DTEND;VALUE=DATE:20231105
DTSTAMP:20260423T032208
CREATED:20231031T155136Z
LAST-MODIFIED:20231031T155136Z
UID:1954-1698710400-1699142399@www.wendlinger-schiere.de
SUMMARY:Diese Woche in de Schiere "Rinderlebersteak und Forelle vom Grill"
DESCRIPTION:
URL:https://www.wendlinger-schiere.de/event/diese-woche-in-de-schiere-rinderlebersteak-und-forelle-vom-grill/
ATTACH;FMTTYPE=image/jpeg:https://www.wendlinger-schiere.de/wp-content/uploads/DSC09873.jpeg
END:VEVENT
BEGIN:VEVENT
DTSTART;VALUE=DATE:20231107
DTEND;VALUE=DATE:20231112
DTSTAMP:20260423T032208
CREATED:20231108T162859Z
LAST-MODIFIED:20231108T162859Z
UID:1957-1699315200-1699747199@www.wendlinger-schiere.de
SUMMARY:Diese Woche in de Schiere "Schweinshaxe und Forelle vom Grill"
DESCRIPTION:
URL:https://www.wendlinger-schiere.de/event/diese-woche-in-de-schiere-schweinshaxe-und-forelle-vom-grill/
ATTACH;FMTTYPE=image/jpeg:https://www.wendlinger-schiere.de/wp-content/uploads/IMG_20230319_153831_206-1-scaled.jpg
END:VEVENT
BEGIN:VEVENT
DTSTART;TZID=Europe/Berlin:20231107T193000
DTEND;TZID=Europe/Berlin:20231107T220000
DTSTAMP:20260423T032208
CREATED:20231014T134938Z
LAST-MODIFIED:20231016T124929Z
UID:1914-1699385400-1699394400@www.wendlinger-schiere.de
SUMMARY:Livemusik in de Schiere "Lipari Acoustic Duo" Musica Italiana
DESCRIPTION:
URL:https://www.wendlinger-schiere.de/event/livemusik-in-de-schiere-mimo-italien-pop/
ATTACH;FMTTYPE=image/jpeg:https://www.wendlinger-schiere.de/wp-content/uploads/LAD-PRESSE-PHOTO-scaled.jpg
END:VEVENT
BEGIN:VEVENT
DTSTART;VALUE=DATE:20231114
DTEND;VALUE=DATE:20231119
DTSTAMP:20260423T032208
CREATED:20231113T165507Z
LAST-MODIFIED:20231113T165507Z
UID:1963-1699920000-1700351999@www.wendlinger-schiere.de
SUMMARY:Diese Woche in de Schiere "Spieße (Lachs\,Rind\,Pollofino und Veggie) vom Grill"
DESCRIPTION:
URL:https://www.wendlinger-schiere.de/event/diese-woche-in-de-schiere-spiesse-lachsrindpollofino-und-veggie-vom-grill/
ATTACH;FMTTYPE=image/jpeg:https://www.wendlinger-schiere.de/wp-content/uploads/IMG_20221025_185652_192.jpg
END:VEVENT
BEGIN:VEVENT
DTSTART;VALUE=DATE:20231121
DTEND;VALUE=DATE:20231126
DTSTAMP:20260423T032208
CREATED:20231122T104811Z
LAST-MODIFIED:20231122T104811Z
UID:1968-1700524800-1700956799@www.wendlinger-schiere.de
SUMMARY:Diese Woche der "Schiere Burger und Lachssteak vom Grill"
DESCRIPTION:
URL:https://www.wendlinger-schiere.de/event/diese-woche-der-schiere-burger-und-lachssteak-vom-grill/
ATTACH;FMTTYPE=image/jpeg:https://www.wendlinger-schiere.de/wp-content/uploads/IMG-20211206-WA0002-e1753690578190.jpg
END:VEVENT
BEGIN:VEVENT
DTSTART;VALUE=DATE:20231128
DTEND;VALUE=DATE:20231203
DTSTAMP:20260423T032208
CREATED:20231122T105023Z
LAST-MODIFIED:20231122T105023Z
UID:1973-1701129600-1701561599@www.wendlinger-schiere.de
SUMMARY:"Hähnchen vom Grill"
DESCRIPTION:
URL:https://www.wendlinger-schiere.de/event/haehnchen-vom-grill/
END:VEVENT
END:VCALENDAR