BEGIN:VCALENDAR
VERSION:2.0
PRODID:-//Wendlinger Schiere in Freiburg St. Georgen - ECPv6.15.20//NONSGML v1.0//EN
CALSCALE:GREGORIAN
METHOD:PUBLISH
X-WR-CALNAME:Wendlinger Schiere in Freiburg St. Georgen
X-ORIGINAL-URL:https://www.wendlinger-schiere.de
X-WR-CALDESC:Veranstaltungen für Wendlinger Schiere in Freiburg St. Georgen
REFRESH-INTERVAL;VALUE=DURATION:PT1H
X-Robots-Tag:noindex
X-PUBLISHED-TTL:PT1H
BEGIN:VTIMEZONE
TZID:Europe/Berlin
BEGIN:DAYLIGHT
TZOFFSETFROM:+0100
TZOFFSETTO:+0200
TZNAME:CEST
DTSTART:20220327T010000
END:DAYLIGHT
BEGIN:STANDARD
TZOFFSETFROM:+0200
TZOFFSETTO:+0100
TZNAME:CET
DTSTART:20221030T010000
END:STANDARD
BEGIN:DAYLIGHT
TZOFFSETFROM:+0100
TZOFFSETTO:+0200
TZNAME:CEST
DTSTART:20230326T010000
END:DAYLIGHT
BEGIN:STANDARD
TZOFFSETFROM:+0200
TZOFFSETTO:+0100
TZNAME:CET
DTSTART:20231029T010000
END:STANDARD
BEGIN:DAYLIGHT
TZOFFSETFROM:+0100
TZOFFSETTO:+0200
TZNAME:CEST
DTSTART:20240331T010000
END:DAYLIGHT
BEGIN:STANDARD
TZOFFSETFROM:+0200
TZOFFSETTO:+0100
TZNAME:CET
DTSTART:20241027T010000
END:STANDARD
END:VTIMEZONE
BEGIN:VEVENT
DTSTART;VALUE=DATE:20231003
DTEND;VALUE=DATE:20231008
DTSTAMP:20260423T044646
CREATED:20231007T163749Z
LAST-MODIFIED:20231007T163749Z
UID:1910-1696291200-1696723199@www.wendlinger-schiere.de
SUMMARY:Diese Woche Lachs und "Wendlinger Grillteller" (Schiere Wurst\, Pollo Fino und Rinderhüftsteak) vom Grill
DESCRIPTION:
URL:https://www.wendlinger-schiere.de/event/diese-woche-lachs-und-wendlinger-grillteller-schiere-wurst-pollo-fino-und-rinderhueftsteak-vom-grill/
END:VEVENT
BEGIN:VEVENT
DTSTART;TZID=Europe/Berlin:20231003T193000
DTEND;TZID=Europe/Berlin:20231003T220000
DTSTAMP:20260423T044646
CREATED:20230815T155927Z
LAST-MODIFIED:20230815T155927Z
UID:1894-1696361400-1696370400@www.wendlinger-schiere.de
SUMMARY:Live Musik in de Schiere"Anna Lu & Kalle Lüber" Acoustic Cover
DESCRIPTION:
URL:https://www.wendlinger-schiere.de/event/live-musik-in-de-schiereanna-lu-kalle-lueber-acoustic-cover/
END:VEVENT
BEGIN:VEVENT
DTSTART;VALUE=DATE:20231010
DTEND;VALUE=DATE:20231015
DTSTAMP:20260423T044646
CREATED:20231010T070508Z
LAST-MODIFIED:20231010T070508Z
UID:1912-1696896000-1697327999@www.wendlinger-schiere.de
SUMMARY:Diese Woche in de Schiere "Lachsfilet und Wendlinger Ribbli (Spareribs) vom Grill"
DESCRIPTION:
URL:https://www.wendlinger-schiere.de/event/diese-woche-in-de-schiere-lachsfilet-und-wendlinger-ribbli-spareribs-vom-grill/
ATTACH;FMTTYPE=image/jpeg:https://www.wendlinger-schiere.de/wp-content/uploads/IMG_20220419_172501_215-scaled-e1753250185207.jpg
END:VEVENT
BEGIN:VEVENT
DTSTART;VALUE=DATE:20231017
DTEND;VALUE=DATE:20231022
DTSTAMP:20260423T044646
CREATED:20231016T124123Z
LAST-MODIFIED:20231016T124141Z
UID:1922-1697500800-1697932799@www.wendlinger-schiere.de
SUMMARY:Diese Woche in de Schiere "Ochs vom Spieß und ganze Doraden vom Grill"
DESCRIPTION:
URL:https://www.wendlinger-schiere.de/event/diese-woche-in-de-schiere-ochs-vom-spiess-und-ganze-doraden-vom-grill/
ATTACH;FMTTYPE=image/jpeg:https://www.wendlinger-schiere.de/wp-content/uploads/Ochs-am-SpiesIMG_20211123_204703_654-1.jpg
END:VEVENT
BEGIN:VEVENT
DTSTART;VALUE=DATE:20231024
DTEND;VALUE=DATE:20231029
DTSTAMP:20260423T044646
CREATED:20231027T072228Z
LAST-MODIFIED:20231027T072228Z
UID:1952-1698105600-1698537599@www.wendlinger-schiere.de
SUMMARY:Diese Woche in de Schiere "Pulled Beef Burger"
DESCRIPTION:
URL:https://www.wendlinger-schiere.de/event/diese-woche-in-de-schiere-pulled-beef-burger/
END:VEVENT
BEGIN:VEVENT
DTSTART;TZID=Europe/Berlin:20231024T193000
DTEND;TZID=Europe/Berlin:20231024T220000
DTSTAMP:20260423T044646
CREATED:20231001T100506Z
LAST-MODIFIED:20231001T100506Z
UID:1901-1698175800-1698184800@www.wendlinger-schiere.de
SUMMARY:Livemusik in de Schiere "Chris Simmons" Liedermacher aus England
DESCRIPTION:
URL:https://www.wendlinger-schiere.de/event/livemusik-in-de-schiere-chris-simmons-liedermacher-aus-england/
ATTACH;FMTTYPE=image/png:https://www.wendlinger-schiere.de/wp-content/uploads/Bildschirmfoto-2022-11-19-um-15.57.16.png
END:VEVENT
BEGIN:VEVENT
DTSTART;VALUE=DATE:20231031
DTEND;VALUE=DATE:20231105
DTSTAMP:20260423T044646
CREATED:20231031T155136Z
LAST-MODIFIED:20231031T155136Z
UID:1954-1698710400-1699142399@www.wendlinger-schiere.de
SUMMARY:Diese Woche in de Schiere "Rinderlebersteak und Forelle vom Grill"
DESCRIPTION:
URL:https://www.wendlinger-schiere.de/event/diese-woche-in-de-schiere-rinderlebersteak-und-forelle-vom-grill/
ATTACH;FMTTYPE=image/jpeg:https://www.wendlinger-schiere.de/wp-content/uploads/DSC09873.jpeg
END:VEVENT
END:VCALENDAR