BEGIN:VCALENDAR
VERSION:2.0
PRODID:-//Wendlinger Schiere in Freiburg St. Georgen - ECPv6.15.20//NONSGML v1.0//EN
CALSCALE:GREGORIAN
METHOD:PUBLISH
X-ORIGINAL-URL:https://www.wendlinger-schiere.de
X-WR-CALDESC:Veranstaltungen für Wendlinger Schiere in Freiburg St. Georgen
REFRESH-INTERVAL;VALUE=DURATION:PT1H
X-Robots-Tag:noindex
X-PUBLISHED-TTL:PT1H
BEGIN:VTIMEZONE
TZID:Europe/Berlin
BEGIN:DAYLIGHT
TZOFFSETFROM:+0100
TZOFFSETTO:+0200
TZNAME:CEST
DTSTART:20220327T010000
END:DAYLIGHT
BEGIN:STANDARD
TZOFFSETFROM:+0200
TZOFFSETTO:+0100
TZNAME:CET
DTSTART:20221030T010000
END:STANDARD
BEGIN:DAYLIGHT
TZOFFSETFROM:+0100
TZOFFSETTO:+0200
TZNAME:CEST
DTSTART:20230326T010000
END:DAYLIGHT
BEGIN:STANDARD
TZOFFSETFROM:+0200
TZOFFSETTO:+0100
TZNAME:CET
DTSTART:20231029T010000
END:STANDARD
BEGIN:DAYLIGHT
TZOFFSETFROM:+0100
TZOFFSETTO:+0200
TZNAME:CEST
DTSTART:20240331T010000
END:DAYLIGHT
BEGIN:STANDARD
TZOFFSETFROM:+0200
TZOFFSETTO:+0100
TZNAME:CET
DTSTART:20241027T010000
END:STANDARD
END:VTIMEZONE
BEGIN:VEVENT
DTSTART;VALUE=DATE:20230704
DTEND;VALUE=DATE:20230709
DTSTAMP:20260423T100349
CREATED:20230703T090606Z
LAST-MODIFIED:20230703T090606Z
UID:1839-1688428800-1688860799@www.wendlinger-schiere.de
SUMMARY:Diese Woche KW 27
DESCRIPTION:Die legendären „Schiere Hähnchen“
URL:https://www.wendlinger-schiere.de/event/diese-woche-kw-27/
ATTACH;FMTTYPE=image/jpeg:https://www.wendlinger-schiere.de/wp-content/uploads/IMG_20220531_175628_780.jpg
END:VEVENT
BEGIN:VEVENT
DTSTART;TZID=Europe/Berlin:20230704T193000
DTEND;TZID=Europe/Berlin:20230704T220000
DTSTAMP:20260423T100349
CREATED:20230621T081239Z
LAST-MODIFIED:20230703T091401Z
UID:1827-1688499000-1688508000@www.wendlinger-schiere.de
SUMMARY:Livemusik in de Schiere\, The "Q"
DESCRIPTION:The „Q“\n \nFunk-Blues-Rock \nDie 5-köpfige Freiburger Funk-Blues-Rock-Formation mit Frontfrau Petra Schempp\, nimmt sein\nPublikum mit auf eine spannende und abwechslungsreiche musikalische Reise. Da die Mitglieder in\nBands unterschiedlicher Musikrichtungen ihre Erfahrungen sammelten\, spielen sie nicht nur ein\nGenre\, sondern was allen Spaß macht. Von Jazz\, Funk\, Blues\, Rock bis hin zum Pop.\nGespielt werden Coverversionen in eigenem Arrangement und typischen Groove mit Songs von\nvan Morrison\, Joss Stone\, PJ. Harvey\, Alvin Lee\, Skunk Anansie\, Ami Whinehouse\, Eta James\, Iggy\nPop\, Lou Reed und vielen anderen.
URL:https://www.wendlinger-schiere.de/event/livemusik-in-de-schiere-4/
ATTACH;FMTTYPE=image/jpeg:https://www.wendlinger-schiere.de/wp-content/uploads/23-The-Q-Wodanhalle-0113-scaled.jpg
END:VEVENT
BEGIN:VEVENT
DTSTART;VALUE=DATE:20230711
DTEND;VALUE=DATE:20230716
DTSTAMP:20260423T100349
CREATED:20230709T064903Z
LAST-MODIFIED:20230709T065019Z
UID:1846-1689033600-1689465599@www.wendlinger-schiere.de
SUMMARY:Diese Woche KW 28 "Spanferkelschulter und ganze Doraden vom Grill"
DESCRIPTION:Spanferkelschulter und ganze Doraden vom Grill
URL:https://www.wendlinger-schiere.de/event/diese-woche-kw-28/
ATTACH;FMTTYPE=image/jpeg:https://www.wendlinger-schiere.de/wp-content/uploads/IMG_20220609_180846_638.jpg
END:VEVENT
BEGIN:VEVENT
DTSTART;VALUE=DATE:20230718
DTEND;VALUE=DATE:20230723
DTSTAMP:20260423T100349
CREATED:20230717T102143Z
LAST-MODIFIED:20230717T102457Z
UID:1871-1689638400-1690070399@www.wendlinger-schiere.de
SUMMARY:Diese Woche KW 28 "Schnitzel und Forellen vom Grill"
DESCRIPTION:Schnitzel und Forellen vom Grill
URL:https://www.wendlinger-schiere.de/event/diese-woche-kw-28-2/
END:VEVENT
BEGIN:VEVENT
DTSTART;VALUE=DATE:20230725
DTEND;VALUE=DATE:20230730
DTSTAMP:20260423T100349
CREATED:20230724T134646Z
LAST-MODIFIED:20230724T134646Z
UID:1875-1690243200-1690675199@www.wendlinger-schiere.de
SUMMARY:Diese Woche KW 29 "Schiere Burger auch Veggie und Lachs vom Grill"
DESCRIPTION:
URL:https://www.wendlinger-schiere.de/event/diese-woche-kw-29-schiere-burger-auch-veggie-und-lachs-vom-grill/
ATTACH;FMTTYPE=image/jpeg:https://www.wendlinger-schiere.de/wp-content/uploads/IMG-20211206-WA0002-e1753690578190.jpg
END:VEVENT
END:VCALENDAR