BEGIN:VCALENDAR
VERSION:2.0
PRODID:-//Wendlinger Schiere in Freiburg St. Georgen - ECPv6.15.20//NONSGML v1.0//EN
CALSCALE:GREGORIAN
METHOD:PUBLISH
X-WR-CALNAME:Wendlinger Schiere in Freiburg St. Georgen
X-ORIGINAL-URL:https://www.wendlinger-schiere.de
X-WR-CALDESC:Veranstaltungen für Wendlinger Schiere in Freiburg St. Georgen
REFRESH-INTERVAL;VALUE=DURATION:PT1H
X-Robots-Tag:noindex
X-PUBLISHED-TTL:PT1H
BEGIN:VTIMEZONE
TZID:Europe/Berlin
BEGIN:DAYLIGHT
TZOFFSETFROM:+0100
TZOFFSETTO:+0200
TZNAME:CEST
DTSTART:20220327T010000
END:DAYLIGHT
BEGIN:STANDARD
TZOFFSETFROM:+0200
TZOFFSETTO:+0100
TZNAME:CET
DTSTART:20221030T010000
END:STANDARD
BEGIN:DAYLIGHT
TZOFFSETFROM:+0100
TZOFFSETTO:+0200
TZNAME:CEST
DTSTART:20230326T010000
END:DAYLIGHT
BEGIN:STANDARD
TZOFFSETFROM:+0200
TZOFFSETTO:+0100
TZNAME:CET
DTSTART:20231029T010000
END:STANDARD
BEGIN:DAYLIGHT
TZOFFSETFROM:+0100
TZOFFSETTO:+0200
TZNAME:CEST
DTSTART:20240331T010000
END:DAYLIGHT
BEGIN:STANDARD
TZOFFSETFROM:+0200
TZOFFSETTO:+0100
TZNAME:CET
DTSTART:20241027T010000
END:STANDARD
END:VTIMEZONE
BEGIN:VEVENT
DTSTART;VALUE=DATE:20230328
DTEND;VALUE=DATE:20230402
DTSTAMP:20260423T150753
CREATED:20230328T072910Z
LAST-MODIFIED:20230328T072910Z
UID:1193-1679961600-1680393599@www.wendlinger-schiere.de
SUMMARY:Diese Woche in de Schiere KW 13
DESCRIPTION:Lachs mit Ofenkartoffel oder Rosmarinkartoffeln \nSchweinshaxe mit Sauerkraut
URL:https://www.wendlinger-schiere.de/event/diese-woche-in-de-schiere-kw-13/
END:VEVENT
BEGIN:VEVENT
DTSTART;VALUE=DATE:20230404
DTEND;VALUE=DATE:20230409
DTSTAMP:20260423T150753
CREATED:20230403T090924Z
LAST-MODIFIED:20230403T090924Z
UID:1205-1680566400-1680998399@www.wendlinger-schiere.de
SUMMARY:Fischwoche in de Schiere KW 13
DESCRIPTION:Lachsspieße und Dorade vom Grill
URL:https://www.wendlinger-schiere.de/event/fischwoche-in-de-schiere-kw-13/
END:VEVENT
BEGIN:VEVENT
DTSTART;TZID=Europe/Berlin:20230404T190000
DTEND;TZID=Europe/Berlin:20230404T220000
DTSTAMP:20260423T150753
CREATED:20230324T112222Z
LAST-MODIFIED:20230330T084132Z
UID:1190-1680634800-1680645600@www.wendlinger-schiere.de
SUMMARY:Livemusik in de Schiere
DESCRIPTION:Dr. Vielgut
URL:https://www.wendlinger-schiere.de/event/livemusik-in-de-schiere/
END:VEVENT
BEGIN:VEVENT
DTSTART;VALUE=DATE:20230411
DTEND;VALUE=DATE:20230416
DTSTAMP:20260423T150753
CREATED:20230409T065559Z
LAST-MODIFIED:20230409T065559Z
UID:1210-1681171200-1681603199@www.wendlinger-schiere.de
SUMMARY:Diese Woche in de Schiere KW 15
DESCRIPTION:Der Wendlinger Grillteller (Schiere Wurst\, Pollofino und Rind)
URL:https://www.wendlinger-schiere.de/event/diese-woche-in-de-schiere-kw-15/
END:VEVENT
BEGIN:VEVENT
DTSTART;VALUE=DATE:20230418
DTEND;VALUE=DATE:20230423
DTSTAMP:20260423T150753
CREATED:20230416T110929Z
LAST-MODIFIED:20230416T110929Z
UID:1214-1681776000-1682207999@www.wendlinger-schiere.de
SUMMARY:Diese Woche in de Schiere KW 16
DESCRIPTION:Schierewurst Spezial mit Käse und Speck \nWolfsbarsch
URL:https://www.wendlinger-schiere.de/event/diese-woche-in-de-schiere-kw-16/
ATTACH;FMTTYPE=image/jpeg:https://www.wendlinger-schiere.de/wp-content/uploads/DSC09861.jpeg
END:VEVENT
BEGIN:VEVENT
DTSTART;VALUE=DATE:20230425
DTEND;VALUE=DATE:20230430
DTSTAMP:20260423T150753
CREATED:20230425T075644Z
LAST-MODIFIED:20230425T075644Z
UID:1221-1682380800-1682812799@www.wendlinger-schiere.de
SUMMARY:Diese Woche in de Schiere KW 17
DESCRIPTION:„Schiere und Veggie Burger“ \nGanzer Wolfsbarsch vom Grill
URL:https://www.wendlinger-schiere.de/event/diese-woche-in-de-schiere-kw-17/
ATTACH;FMTTYPE=image/jpeg:https://www.wendlinger-schiere.de/wp-content/uploads/IMG-20211206-WA0002-1.jpg
END:VEVENT
END:VCALENDAR