BEGIN:VCALENDAR
VERSION:2.0
PRODID:-//Wendlinger Schiere in Freiburg St. Georgen - ECPv6.15.20//NONSGML v1.0//EN
CALSCALE:GREGORIAN
METHOD:PUBLISH
X-WR-CALNAME:Wendlinger Schiere in Freiburg St. Georgen
X-ORIGINAL-URL:https://www.wendlinger-schiere.de
X-WR-CALDESC:Veranstaltungen für Wendlinger Schiere in Freiburg St. Georgen
REFRESH-INTERVAL;VALUE=DURATION:PT1H
X-Robots-Tag:noindex
X-PUBLISHED-TTL:PT1H
BEGIN:VTIMEZONE
TZID:Europe/Berlin
BEGIN:DAYLIGHT
TZOFFSETFROM:+0100
TZOFFSETTO:+0200
TZNAME:CEST
DTSTART:20220327T010000
END:DAYLIGHT
BEGIN:STANDARD
TZOFFSETFROM:+0200
TZOFFSETTO:+0100
TZNAME:CET
DTSTART:20221030T010000
END:STANDARD
BEGIN:DAYLIGHT
TZOFFSETFROM:+0100
TZOFFSETTO:+0200
TZNAME:CEST
DTSTART:20230326T010000
END:DAYLIGHT
BEGIN:STANDARD
TZOFFSETFROM:+0200
TZOFFSETTO:+0100
TZNAME:CET
DTSTART:20231029T010000
END:STANDARD
BEGIN:DAYLIGHT
TZOFFSETFROM:+0100
TZOFFSETTO:+0200
TZNAME:CEST
DTSTART:20240331T010000
END:DAYLIGHT
BEGIN:STANDARD
TZOFFSETFROM:+0200
TZOFFSETTO:+0100
TZNAME:CET
DTSTART:20241027T010000
END:STANDARD
END:VTIMEZONE
BEGIN:VEVENT
DTSTART;VALUE=DATE:20230214
DTEND;VALUE=DATE:20230220
DTSTAMP:20260423T182711
CREATED:20230208T143551Z
LAST-MODIFIED:20230213T135726Z
UID:1119-1676332800-1676851199@www.wendlinger-schiere.de
SUMMARY:Diese Woche in de Schiere KW7
DESCRIPTION:Wendlinger Ribbli (Spare Ribs)\nFisch der Woche\, Wolfsbarsch
URL:https://www.wendlinger-schiere.de/event/diese-woche-in-de-schiere-3/
ATTACH;FMTTYPE=image/jpeg:https://www.wendlinger-schiere.de/wp-content/uploads/IMG_20220419_172501_215-scaled-e1753250185207.jpg
END:VEVENT
BEGIN:VEVENT
DTSTART;TZID=Europe/Berlin:20230217T193000
DTEND;TZID=Europe/Berlin:20230217T220000
DTSTAMP:20260423T182711
CREATED:20230213T140208Z
LAST-MODIFIED:20230213T140208Z
UID:1158-1676662200-1676671200@www.wendlinger-schiere.de
SUMMARY:Fasnet
DESCRIPTION:Wirtschaftschnurren
URL:https://www.wendlinger-schiere.de/event/fasnet/
END:VEVENT
BEGIN:VEVENT
DTSTART;VALUE=DATE:20230221
DTEND;VALUE=DATE:20230227
DTSTAMP:20260423T182711
CREATED:20230208T143652Z
LAST-MODIFIED:20230213T135906Z
UID:1122-1676937600-1677455999@www.wendlinger-schiere.de
SUMMARY:Diese Woche in de Schiere KW8
DESCRIPTION:Wendlinger Burger/ Veggie Burger
URL:https://www.wendlinger-schiere.de/event/diese-woche-in-de-schiere-4/
ATTACH;FMTTYPE=image/jpeg:https://www.wendlinger-schiere.de/wp-content/uploads/IMG-20211206-WA0002-e1753690578190.jpg
END:VEVENT
BEGIN:VEVENT
DTSTART;VALUE=DATE:20230228
DTEND;VALUE=DATE:20230305
DTSTAMP:20260423T182711
CREATED:20230222T080438Z
LAST-MODIFIED:20230222T080655Z
UID:1165-1677542400-1677974399@www.wendlinger-schiere.de
SUMMARY:Diese Woche in de Schiere KW9
DESCRIPTION:Spieße (Rind\,Polofino und Veggie) vom Grill
URL:https://www.wendlinger-schiere.de/event/diese-woche-in-de-schiere-kw9/
ATTACH;FMTTYPE=image/jpeg:https://www.wendlinger-schiere.de/wp-content/uploads/IMG_20221025_185652_192.jpg
END:VEVENT
END:VCALENDAR